BEGIN:VCALENDAR
VERSION:2.0
PRODID:-//MHN - ECPv6.15.20//NONSGML v1.0//EN
CALSCALE:GREGORIAN
METHOD:PUBLISH
X-ORIGINAL-URL:https://m-h-n.ch
X-WR-CALDESC:Veranstaltungen für MHN
REFRESH-INTERVAL;VALUE=DURATION:PT1H
X-Robots-Tag:noindex
X-PUBLISHED-TTL:PT1H
BEGIN:VTIMEZONE
TZID:Europe/Helsinki
BEGIN:DAYLIGHT
TZOFFSETFROM:+0200
TZOFFSETTO:+0300
TZNAME:EEST
DTSTART:20250330T010000
END:DAYLIGHT
BEGIN:STANDARD
TZOFFSETFROM:+0300
TZOFFSETTO:+0200
TZNAME:EET
DTSTART:20251026T010000
END:STANDARD
BEGIN:DAYLIGHT
TZOFFSETFROM:+0200
TZOFFSETTO:+0300
TZNAME:EEST
DTSTART:20260329T010000
END:DAYLIGHT
BEGIN:STANDARD
TZOFFSETFROM:+0300
TZOFFSETTO:+0200
TZNAME:EET
DTSTART:20261025T010000
END:STANDARD
BEGIN:DAYLIGHT
TZOFFSETFROM:+0200
TZOFFSETTO:+0300
TZNAME:EEST
DTSTART:20270328T010000
END:DAYLIGHT
BEGIN:STANDARD
TZOFFSETFROM:+0300
TZOFFSETTO:+0200
TZNAME:EET
DTSTART:20271031T010000
END:STANDARD
END:VTIMEZONE
BEGIN:VEVENT
DTSTART;TZID=Europe/Helsinki:20260514T100000
DTEND;TZID=Europe/Helsinki:20260514T193000
DTSTAMP:20260425T144957
CREATED:20240506T083723Z
LAST-MODIFIED:20260130T092857Z
UID:1394-1778752800-1778787000@m-h-n.ch
SUMMARY:Auffahrtsmarkt Oberglatt
DESCRIPTION:Konzertbeginn 14.00 Uhr
URL:https://m-h-n.ch/event/auffahrtsmarkt-oberglatt/
LOCATION:Chliriethalle Oberglatt\, Chliriethalle\, Oberglatt\, 8154\, Schweiz
END:VEVENT
BEGIN:VEVENT
DTSTART;TZID=Europe/Helsinki:20260531T120000
DTEND;TZID=Europe/Helsinki:20260531T130000
DTSTAMP:20260425T144957
CREATED:20250226T170024Z
LAST-MODIFIED:20260130T092416Z
UID:1454-1780228800-1780232400@m-h-n.ch
SUMMARY:Ständli 55 Plus
DESCRIPTION:
URL:https://m-h-n.ch/event/staendli-55-plus/
LOCATION:Gemeindesaal Oberglatt
END:VEVENT
BEGIN:VEVENT
DTSTART;TZID=Europe/Helsinki:20260703T190000
DTEND;TZID=Europe/Helsinki:20260703T210000
DTSTAMP:20260425T144957
CREATED:20240513T091446Z
LAST-MODIFIED:20260130T092535Z
UID:1399-1783105200-1783112400@m-h-n.ch
SUMMARY:Ständli Füürabig-Bier
DESCRIPTION:
URL:https://m-h-n.ch/event/staendli-fueuerabig-bier/
LOCATION:Feuerwehrmuseum Oberglatt
END:VEVENT
BEGIN:VEVENT
DTSTART;TZID=Europe/Helsinki:20260731T180000
DTEND;TZID=Europe/Helsinki:20260731T230000
DTSTAMP:20260425T144957
CREATED:20250703T064330Z
LAST-MODIFIED:20260130T092459Z
UID:1467-1785520800-1785538800@m-h-n.ch
SUMMARY:Bundesfeier Oberglatt
DESCRIPTION:
URL:https://m-h-n.ch/event/bundesfeier-oberglatt-5/
LOCATION:Chliriethalle Oberglatt\, Chliriethalle\, Oberglatt\, 8154\, Schweiz
END:VEVENT
BEGIN:VEVENT
DTSTART;TZID=Europe/Helsinki:20260801T180000
DTEND;TZID=Europe/Helsinki:20260801T230000
DTSTAMP:20260425T144957
CREATED:20250703T064401Z
LAST-MODIFIED:20260130T092443Z
UID:1469-1785607200-1785625200@m-h-n.ch
SUMMARY:Bundesfeier Niederglatt
DESCRIPTION:
URL:https://m-h-n.ch/event/bundesfeier-niederglatt-6/
LOCATION:Eschenberg\, Eschenbergstrasse\, Niederglatt\, 8172\, Schweiz
END:VEVENT
BEGIN:VEVENT
DTSTART;VALUE=DATE:20260829
DTEND;VALUE=DATE:20260830
DTSTAMP:20260425T144957
CREATED:20260130T093050Z
LAST-MODIFIED:20260130T093050Z
UID:1486-1787961600-1788047999@m-h-n.ch
SUMMARY:Musikantentreff 2026
DESCRIPTION:
URL:https://m-h-n.ch/event/musikantentreff-2026/
LOCATION:Chliriethalle Oberglatt\, Chliriethalle\, Oberglatt\, 8154\, Schweiz
END:VEVENT
END:VCALENDAR